BEGIN:VCALENDAR
VERSION:2.0
PRODID:-//eventon.com NONSGML v1.0//EN
CALSCALE:GREGORIAN
METHOD:PUBLISH
BEGIN:VEVENT
UID:69e6069a38235
DTSTAMP:20260420T105730Z
DTSTART:20200819T210000Z
DTEND:20200820T010000Z
LOCATION:
SUMMARY:2nd Annual Ready\,  Set\,  Achieve School Supply Drive
DESCRIPTION:Join us at Northern Taphouse in Lakeville\,  this Wednesday\,  
 August 19th for our 2nd Annual School Supply Drive supporting Lakeville Pub
 lic Schools 𝘙𝘦𝘢𝘥𝘺\,  𝘚𝘦𝘵\,  𝘈𝘤𝘩𝘪𝘦
 𝘦 program! We will be selling raffle tickets in the store every day lea
 ding up to the event\,  and giving away some sweet gift baskets\,  featurin
 g[..]\nhttps://minnesotabreweries.com/events/2nd-annual-ready-set-achieve-s
 chool-supply-drive
URL:https://minnesotabreweries.com/events/2nd-annual-ready-set-achieve-school-supply-drive
END:VEVENT
END:VCALENDAR