BEGIN:VCALENDAR
VERSION:2.0
PRODID:-//eventon.com NONSGML v1.0//EN
CALSCALE:GREGORIAN
METHOD:PUBLISH
BEGIN:VEVENT
UID:69ea57310aa96
DTSTAMP:20260423T173025Z
DTSTART:20200925T200000Z
DTEND:20201004T030000Z
LOCATION:Swing Barrel Brewing Company  814 Center Ave. Suite A\,  Moorhead\,  Minnesota 56560
SUMMARY:Oktoberfest 814
DESCRIPTION:Join us for Oktoberfest 814 from Sept. 25th &#8211; Oct. 3rd! *
  Fun events every day * Family friendly * Free to attend Hosted by Swing Ba
 rrel Brewing Company\,  LLC \,  Nature of the North \,  The Healing Arts Re
 volution \,  and Hotdog! Pet Salon . EVENTS SCHEDULE BELOW DAILY[..]\nhttps
 ://minnesotabreweries.com/events/oktoberfest-814
URL:https://minnesotabreweries.com/events/oktoberfest-814
END:VEVENT
END:VCALENDAR