BEGIN:VCALENDAR
VERSION:2.0
PRODID:-//eventon.com NONSGML v1.0//EN
CALSCALE:GREGORIAN
METHOD:PUBLISH
BEGIN:VEVENT
UID:69eadd9e94632
DTSTAMP:20260424T030358Z
DTSTART:20180130T000000Z
DTEND:20180130T020000Z
LOCATION:Wicked Wort Brewing Company 4165 W Broadway Ave\,  Robbinsdale\,  MN 55422
SUMMARY:Beer Pong Tournament
DESCRIPTION:Join us for the Wicked Wort Beer Pong Tournament (played with w
 ater in the cups!) on Monday\,  January 29th at 6pm! Register in advance by
  emailing events@wickedwortbrewingco.com or register the day of by arriving
  15 minutes early. We&#8217;ll have prizes for the top 3 teams so stop by a
 nd prove[..]\nhttps://minnesotabreweries.com/events/beer-pong-tournament
URL:https://minnesotabreweries.com/events/beer-pong-tournament
END:VEVENT
END:VCALENDAR