BEGIN:VCALENDAR
VERSION:2.0
PRODID:-//eventon.com NONSGML v1.0//EN
CALSCALE:GREGORIAN
METHOD:PUBLISH
BEGIN:VEVENT
UID:69e8814bb2f94
DTSTAMP:20260422T080531Z
DTSTART:20210819T230000Z
DTEND:20210820T020000Z
LOCATION:Broken Clock Brewing Cooperative 1712 Marshall St NE\,  Minneapolis\,  MN 55413
SUMMARY:Pints & Pups: Pug Meet-Up
DESCRIPTION:The featured breed for August&#8217;s Pints &amp; Pups meet up 
 is Pugs! If you have one of these playful\,  affectionate pups\,  join us i
 n the taproom on August 19th from 6-9pm to meet other charming dogs and the
 ir owners! Don’t have a Pug but still want to meet some great[..]\nhttps:
 //minnesotabreweries.com/events/pints-pups-pug-meet-up
URL:https://minnesotabreweries.com/events/pints-pups-pug-meet-up
END:VEVENT
END:VCALENDAR