BEGIN:VCALENDAR
VERSION:2.0
PRODID:-//eventon.com NONSGML v1.0//EN
CALSCALE:GREGORIAN
METHOD:PUBLISH
BEGIN:VEVENT
UID:69ea8f5700d74
DTSTAMP:20260423T212959Z
DTSTART:20180329T233000Z
DTEND:20180330T020000Z
LOCATION:Unmapped Brewing Company 14625 Excelsior Boulevard\,  Minnetonka\,  MN 55345
SUMMARY:Run Beer Repeat
DESCRIPTION:Join us for a special 5th Thursday run in March at Unmapped Bre
 wing Co.! Our club runs on the 1st and 3rd Thursdays of each month\,  but o
 ccasionally we are blessed with an extra Thursday and we don&#8217;t skip i
 t! Unmapped is a special location for us\,  as one of[..]\nhttps://minnesot
 abreweries.com/events/run-beer-repeat-2
URL:https://minnesotabreweries.com/events/run-beer-repeat-2
END:VEVENT
END:VCALENDAR