BEGIN:VCALENDAR
VERSION:2.0
PRODID:-//eventon.com NONSGML v1.0//EN
CALSCALE:GREGORIAN
METHOD:PUBLISH
BEGIN:VEVENT
UID:69ea02f2762e0
DTSTAMP:20260423T113058Z
DTSTART:20210918T220000Z
DTEND:20210919T020000Z
LOCATION:Arbeiter Brewing Company 3036 Minnehaha Ave\,  Minneapolis\,  MN 55406
SUMMARY:A. Night Market
DESCRIPTION:Join us for a crafty evening at Arbeiter for &#8220;A. Night Ma
 rket&#8221; on Saturday\,  September 18th from 5 pm &#8211; 9 pm. &#8220;A.
  Night Market&#8221; Arts &amp; Craft Fair strives to be inclusive in its c
 raft space and commits to BIPOC makers by prioritizing the need for showcas
 ing these artist[..]\nhttps://minnesotabreweries.com/events/a-night-market
URL:https://minnesotabreweries.com/events/a-night-market
END:VEVENT
END:VCALENDAR