BEGIN:VCALENDAR
VERSION:2.0
PRODID:-//eventon.com NONSGML v1.0//EN
CALSCALE:GREGORIAN
METHOD:PUBLISH
BEGIN:VEVENT
UID:69ece63faab36
DTSTAMP:20260425T160519Z
DTSTART:20211105T210000Z
DTEND:20211106T010000Z
LOCATION:Grumpy&#039;s NE 2200 4th Street NE\,  Minneapolis\,  MN 55418
SUMMARY:Pints & Peppers
DESCRIPTION:Come help us celebrates the release of this years Fresh Hop Pal
 e Ale from our friends at Indeed Brewing! We’ll be grilling shishito pepp
 ers for everybody to snack on too! Our doors open at 2\,  festivities comme
 nce say 4ish?\nhttps://minnesotabreweries.com/events/pints-peppers
URL:https://minnesotabreweries.com/events/pints-peppers
END:VEVENT
END:VCALENDAR