BEGIN:VCALENDAR
VERSION:2.0
PRODID:-//eventon.com NONSGML v1.0//EN
CALSCALE:GREGORIAN
METHOD:PUBLISH
BEGIN:VEVENT
UID:69ec103d571dd
DTSTAMP:20260425T005213Z
DTSTART:20220114T200000Z
DTEND:20220115T020000Z
LOCATION:Pantown Brewing Company 408 37th Ave N\,  St. Cloud\,  MN 56303
SUMMARY:St Cloud Craft Beer Tour Pre-Party
DESCRIPTION:We are throwing a Pre Party for this year&#8217;s St Cloud Craf
 t Beer Tour! January 14th\,  join us at the taproom for Taproom Exclusive b
 eer releases! Featuring; Peanut Butter Milk Stout\,  Cookie Dough Milk Stou
 t\,  Orange Push-Up\,  Mulberry Pie\,  and select barrel-aged beers\,  to b
 e announced at a later time![..]\nhttps://minnesotabreweries.com/events/st-
 cloud-craft-beer-tour-pre-party
URL:https://minnesotabreweries.com/events/st-cloud-craft-beer-tour-pre-party
END:VEVENT
END:VCALENDAR