BEGIN:VCALENDAR
VERSION:2.0
PRODID:-//eventon.com NONSGML v1.0//EN
CALSCALE:GREGORIAN
METHOD:PUBLISH
BEGIN:VEVENT
UID:69ecd0bfbde85
DTSTAMP:20260425T143335Z
DTSTART:20220826T230000Z
DTEND:20220827T023000Z
LOCATION:
SUMMARY:Summer Beer Dabbler 2022
DESCRIPTION:Summer Beer Dabbler is back for our 13th year in 2022\,  and to
  celebrate\,  we&#8217;re moving our festival to St. Paul&#8217;s gorgeous 
 riverfront park\,  Harriet Island! You&#8217;ll be able to enjoy spectacula
 r views of the Mighty Mississippi River and downtown skyline while sampling
  hundreds of different beers\,  ciders\,  seltzers\,  plus[..]\nhttps://min
 nesotabreweries.com/events/summer-beer-dabbler-2022
URL:https://minnesotabreweries.com/events/summer-beer-dabbler-2022
END:VEVENT
END:VCALENDAR