BEGIN:VCALENDAR
VERSION:2.0
PRODID:-//eventon.com NONSGML v1.0//EN
CALSCALE:GREGORIAN
METHOD:PUBLISH
BEGIN:VEVENT
UID:69ebf08a2042b
DTSTAMP:20260424T223658Z
DTSTART:20180303T010000Z
DTEND:20180303T040000Z
LOCATION:
SUMMARY:Maple Grove Lion's 1st Annual Beer and Wine Tasting Event
DESCRIPTION:The Maple Grove Lions are excited to announce our 1st Annual Be
 er and Wine Tasting Event with 100% of the proceeds benefiting the Maple Gr
 ove community. Sample and enjoy a variety of local beers\,  wines\,  and sp
 irits with complimentary food\,  appetizers\,  hors-d&#8217;oeuvres\,  and 
 desserts from local restaurants. There will also[..]\nhttps://minnesotabrew
 eries.com/events/maple-grove-lions-1st-annual-beer-wine-tasting-event
URL:https://minnesotabreweries.com/events/maple-grove-lions-1st-annual-beer-wine-tasting-event
END:VEVENT
END:VCALENDAR