BEGIN:VCALENDAR
VERSION:2.0
PRODID:-//eventon.com NONSGML v1.0//EN
CALSCALE:GREGORIAN
METHOD:PUBLISH
BEGIN:VEVENT
UID:69ecf5e507f7d
DTSTAMP:20260425T171205Z
DTSTART:20230930T170000Z
DTEND:20231001T010000Z
LOCATION:Bent Brewstillery 1744 Terrace Dr\,  Roseville\,  MN 55113
SUMMARY:Fall Booya Fest
DESCRIPTION:Sept 30th we&#8217;re drinking in the return of chilly weather 
 with Booya. Booya: a thick chicken/pork/beef stew that many believe was cre
 ated by Walloon Belgian settlers. The origin of the rather unusual word com
 es from bouillir\,  the French word for &#8216;to boil&#8217;. Although var
 iations of this dish are found in[..]\nhttps://minnesotabreweries.com/event
 s/fall-booya-fest-2
URL:https://minnesotabreweries.com/events/fall-booya-fest-2
END:VEVENT
END:VCALENDAR