BEGIN:VCALENDAR
VERSION:2.0
PRODID:-//eventon.com NONSGML v1.0//EN
CALSCALE:GREGORIAN
METHOD:PUBLISH
BEGIN:VEVENT
UID:69e8a0c72684c
DTSTAMP:20260422T101951Z
DTSTART:20231203T003000Z
DTEND:20231203T040000Z
LOCATION:56 Brewing 3055 Columbia Ave NE\,  Minneapolis\,  MN 55418
SUMMARY:Punk Rock Christmas Concert
DESCRIPTION:Minneapolis&#8217; annual punk Christmas show! This year it&#82
 17;s hosted by 56 Brewing. Free admission and all-ages. Zombabies 7:00 Land
 fillharmonik 7:40 The Staboteurs 8:20 Punx 9:15\nhttps://minnesotabreweries
 .com/events/punk-rock-christmas-concert
URL:https://minnesotabreweries.com/events/punk-rock-christmas-concert
END:VEVENT
END:VCALENDAR