BEGIN:VCALENDAR
VERSION:2.0
PRODID:-//eventon.com NONSGML v1.0//EN
CALSCALE:GREGORIAN
METHOD:PUBLISH
BEGIN:VEVENT
UID:69eb433d15779
DTSTAMP:20260424T101733Z
DTSTART:20231209T170000Z
DTEND:20231209T190000Z
LOCATION:Waconia Brewing Company 255 W Main St\,  Waconia\,  MN 55387
SUMMARY:Santa In The Taproom
DESCRIPTION:Santa Claus is coming to the Taproom on December 9th\,  11am-1p
 m! Enjoy a beverage while the kids take a picture with Santa Claus.\nhttps:
 //minnesotabreweries.com/events/santa-in-the-taproom
URL:https://minnesotabreweries.com/events/santa-in-the-taproom
END:VEVENT
END:VCALENDAR