BEGIN:VCALENDAR
VERSION:2.0
PRODID:-//eventon.com NONSGML v1.0//EN
CALSCALE:GREGORIAN
METHOD:PUBLISH
BEGIN:VEVENT
UID:69e816476f046
DTSTAMP:20260422T002855Z
DTSTART:20240525T170000Z
DTEND:20240526T030000Z
LOCATION:Modist Brewing Company 505 N 3rd St\,  Minneapolis\,  MN 55401
SUMMARY:Modist Brewing Blood Orange Paloma Release
DESCRIPTION:We firmly believe Paloma &gt; Margarita. That might be a hot ta
 ke but our latest version of Taproom Only is even hotter. It’s not spicy\
 ,  just hot as in like really good. And our taproom is the only place to ge
 t it. Introducing Taproom Only: Blood Orange Paloma\,  a taproom-only[..]\n
 https://minnesotabreweries.com/events/modist-brewing-blood-orange-paloma-re
 lease
URL:https://minnesotabreweries.com/events/modist-brewing-blood-orange-paloma-release
END:VEVENT
END:VCALENDAR