BEGIN:VCALENDAR
VERSION:2.0
PRODID:-//eventon.com NONSGML v1.0//EN
CALSCALE:GREGORIAN
METHOD:PUBLISH
BEGIN:VEVENT
UID:69ea30be57d43
DTSTAMP:20260423T144622Z
DTSTART:20240711T230000Z
DTEND:20240712T020000Z
LOCATION:Fulton Taproom 414 6th Ave N\,  Minneapolis\,  MN 55401
SUMMARY:Joyfulton Social Ride: Beach Ride
DESCRIPTION:We gather at 6 p.m.\,  roll out at 6:30 p.m.\,  and return to t
 he taproom between 7:30 and 8 p.m. These friendly-paced social rides averag
 e 8 miles at a speed of ~7–10 mph. Each participant receives one free bee
 r\,  THC drink\,  or non-alcoholic beverage courtesy of Fulton Beer. Riders
  of[..]\nhttps://minnesotabreweries.com/events/joyfulton-social-ride-beach-
 ride
URL:https://minnesotabreweries.com/events/joyfulton-social-ride-beach-ride
END:VEVENT
END:VCALENDAR