BEGIN:VCALENDAR
VERSION:2.0
PRODID:-//eventon.com NONSGML v1.0//EN
CALSCALE:GREGORIAN
METHOD:PUBLISH
BEGIN:VEVENT
UID:69ed6eb5c3838
DTSTAMP:20260426T014733Z
DTSTART:20240821T220000Z
DTEND:20240822T020000Z
LOCATION:Summit Brewing Company 910 Montreal Cir\,  Saint Paul\,  MN 55102
SUMMARY:Bizzy Cold Brew X Summit Brewing Cold Brew Coffee Blonde Ale Release Party
DESCRIPTION:Join us for an exclusive release party celebrating our collabor
 ation with Bizzy Cold Brew for the launch of the Cold Brew Coffee Blonde Al
 e. Enjoy a night of refreshing and crushable cold brew-infused pints of our
  collab beer poured straight from our taps to your glass. It has a roasted[
 ..]\nhttps://minnesotabreweries.com/events/bizzy-cold-brew-x-summit-brewing
 -cold-brew-coffee-blonde-ale-release-party
URL:https://minnesotabreweries.com/events/bizzy-cold-brew-x-summit-brewing-cold-brew-coffee-blonde-ale-release-party
END:VEVENT
END:VCALENDAR