BEGIN:VCALENDAR
VERSION:2.0
PRODID:-//eventon.com NONSGML v1.0//EN
CALSCALE:GREGORIAN
METHOD:PUBLISH
BEGIN:VEVENT
UID:69ed76d078ede
DTSTAMP:20260426T022208Z
DTSTART:20240810T170000Z
DTEND:20240810T220000Z
LOCATION:Bent Brewstillery 1744 Terrace Dr\,  Roseville\,  MN 55113
SUMMARY:Pickleball Patio Party Fundraiser
DESCRIPTION:Pickleball Patio Party Fundraiser!August 10 starting at noon at
  Bent Brewstillery * 0.5K Fun Run from Bent Brewstillery to Smash Park* Har
 d Launch of Smash Park’s very own Pickleball Blonde Ale* $2 beers &amp; p
 roceeds go to Fill the Boot Muscular Dystrophy Campaign* Roseville Fire Dep
 artment onsite* Free hot dogs[..]\nhttps://minnesotabreweries.com/events/pi
 ckleball-patio-party-fundraiser
URL:https://minnesotabreweries.com/events/pickleball-patio-party-fundraiser
END:VEVENT
END:VCALENDAR