BEGIN:VCALENDAR
VERSION:2.0
PRODID:-//eventon.com NONSGML v1.0//EN
CALSCALE:GREGORIAN
METHOD:PUBLISH
BEGIN:VEVENT
UID:69e88034d666c
DTSTAMP:20260422T080052Z
DTSTART:20240914T180000Z
DTEND:20240915T030000Z
LOCATION:Insight Brewing Company 2821 E Hennepin Ave\,  Minneapolis\,  MN 55413
SUMMARY:Dogtoberfest
DESCRIPTION:It&#8217;s gonna be a glizz-stravaganza! Hot dogs\,  wieners\, 
  glizzys &#8211; whatever you wanna call them\,  we&#8217;re celebrating th
 em! Here&#8217;s what to expect: Angry Line Cook &amp; Nordic Dogs slingin&
 #8217; franks. Live music all day. (Line up TBA ) Hot dog eating contest. &
 #8220;Unique&#8221; limited edition merch. Hot dog-centric activities. The[
 ..]\nhttps://minnesotabreweries.com/events/dogtoberfest-3
URL:https://minnesotabreweries.com/events/dogtoberfest-3
END:VEVENT
END:VCALENDAR