BEGIN:VCALENDAR
VERSION:2.0
PRODID:-//eventon.com NONSGML v1.0//EN
CALSCALE:GREGORIAN
METHOD:PUBLISH
BEGIN:VEVENT
UID:69e757cfd032a
DTSTAMP:20260421T105615Z
DTSTART:20241026T210000Z
DTEND:20241026T230000Z
LOCATION:Indeed Brewing Company 711 15th Avenue NE\,  Minneapolis\,  MN 55413
SUMMARY:Beer Brûlée
DESCRIPTION:A pint of beer meets the business end of a fire poker; at Indee
 d\,  we call that a Beer Brûlée. Equal parts delicious and mystifying\,  
 it’s the only way you’ll want to drink a beer in cool temperatures ever
  again. Choose your favorite dark malty beer and try it Beer[..]\nhttps://m
 innesotabreweries.com/events/beer-brulee
URL:https://minnesotabreweries.com/events/beer-brulee
END:VEVENT
END:VCALENDAR