BEGIN:VCALENDAR
VERSION:2.0
PRODID:-//eventon.com NONSGML v1.0//EN
CALSCALE:GREGORIAN
METHOD:PUBLISH
BEGIN:VEVENT
UID:69eb04144d3ff
DTSTAMP:20260424T054804Z
DTSTART:20241208T190000Z
DTEND:20241208T210000Z
LOCATION:Heavy Rotation Brewing Company 9801 Xenia Avenue North Suite 105 Brooklyn Park\,  MN 55443
SUMMARY:Chili Cook-Off
DESCRIPTION:2024 CHILI COOK-OFF We are once again teaming up with the Brook
 lyn Park Fire Foundation &amp; the Brooklyn Park Professional Firefighters 
 IAFF Local 5031 for our annual Chili Cook-Off on Sunday\,  December 8th. Th
 e Cook-Off is FREE to enter (10 spots) and the winner will receive gift car
 ds and more![..]\nhttps://minnesotabreweries.com/events/chili-cook-off-3
URL:https://minnesotabreweries.com/events/chili-cook-off-3
END:VEVENT
END:VCALENDAR