BEGIN:VCALENDAR
VERSION:2.0
PRODID:-//eventon.com NONSGML v1.0//EN
CALSCALE:GREGORIAN
METHOD:PUBLISH
BEGIN:VEVENT
UID:69ebaa9511ffc
DTSTAMP:20260424T173829Z
DTSTART:20250204T003000Z
DTEND:20250204T030000Z
LOCATION:LTD Brewing Company 8 8th Ave N\,  Hopkins\,  MN 55343
SUMMARY:Adult Pinewood Derby
DESCRIPTION:The Adult Pinewood Derby is back at LTD! This is not your kid&#
 8217;s pinewood derby. No\,  literally\,  this race is for adults. It&#8217
 ;s time to have some fun at a local brewery while helping to raise funds fo
 r local cub scout pack 254. If you don&#8217;t have a car\,  stop[..]\nhttp
 s://minnesotabreweries.com/events/adult-pinewood-derby
URL:https://minnesotabreweries.com/events/adult-pinewood-derby
END:VEVENT
END:VCALENDAR