BEGIN:VCALENDAR
VERSION:2.0
PRODID:-//eventon.com NONSGML v1.0//EN
CALSCALE:GREGORIAN
METHOD:PUBLISH
BEGIN:VEVENT
UID:69ea313cae4c2
DTSTAMP:20260423T144828Z
DTSTART:20250208T180000Z
DTEND:20250208T203000Z
LOCATION:Fulton Taproom 414 6th Ave N\,  Minneapolis\,  MN 55401
SUMMARY:February Ride with the Joyful Riders Club
DESCRIPTION:Led by Mario Macaruso and Patrick Stephenson of 30 Days of Biki
 ng\,  the Joyful Riders Club meets each month at Fulton Beer’s taproom. J
 oin us in exploring special experiences in the Twin Cities\,  discovering n
 ew routes\,  and building a welcoming community around biking. For our wint
 er rides\,  we will gather[..]\nhttps://minnesotabreweries.com/events/febru
 ary-ride-with-the-joyful-riders-club
URL:https://minnesotabreweries.com/events/february-ride-with-the-joyful-riders-club
END:VEVENT
END:VCALENDAR