BEGIN:VCALENDAR
VERSION:2.0
PRODID:-//eventon.com NONSGML v1.0//EN
CALSCALE:GREGORIAN
METHOD:PUBLISH
BEGIN:VEVENT
UID:69ebcddfc5bfa
DTSTAMP:20260424T200903Z
DTSTART:20250621T180000Z
DTEND:20250622T030000Z
LOCATION:Hackamore Brewing Company 18651 Lake Dr E\,  Chanhassen\,  MN 55317
SUMMARY:Summer Fest
DESCRIPTION:SUMMER FEST IS BACK! Hackamore Brewing Company presents SUMMER 
 FEST: SAY IT AIN’T FAUX – the ultimate block party of the summer! LIVE 
 MUSIC: Drink 182 – 3PM-5PM Say It Ain’t Faux (Weezer Tribute) – 7PM-9
 PM Beer Garden: 1PM-10PM Food Truck: 1PM-8PM Vendor Market: 1PM-5PM Outdoor
  Games &amp; More! 18651[..]\nhttps://minnesotabreweries.com/events/summer-
 fest
URL:https://minnesotabreweries.com/events/summer-fest
END:VEVENT
END:VCALENDAR