BEGIN:VCALENDAR
VERSION:2.0
PRODID:-//eventon.com NONSGML v1.0//EN
CALSCALE:GREGORIAN
METHOD:PUBLISH
BEGIN:VEVENT
UID:69eb241ed7de8
DTSTAMP:20260424T080446Z
DTSTART:20180421T170000Z
DTEND:20180422T040000Z
LOCATION:HeadFlyer Brewing 861 E Hennepin Ave\,  Minneapolis\,  MN 55414
SUMMARY:HeadFlyer Brewing Is One
DESCRIPTION:Well&#8230;look who’s turning one on April 21st! What we thou
 ght was All a Dream became a reality thanks to our wonderful patrons and tr
 emendous community. Be sure to tell your friends to get with our friends so
  we can be friends. Help us celebrate our first birthday with a blowout[..]
 \nhttps://minnesotabreweries.com/events/headflyer-brewing-is-one
URL:https://minnesotabreweries.com/events/headflyer-brewing-is-one
END:VEVENT
END:VCALENDAR