BEGIN:VCALENDAR
VERSION:2.0
PRODID:-//eventon.com NONSGML v1.0//EN
CALSCALE:GREGORIAN
METHOD:PUBLISH
BEGIN:VEVENT
UID:69e6603e77bda
DTSTAMP:20260420T171958Z
DTSTART:20180427
DTEND:20180428
LOCATION:Castle Danger Brewery 17 7th Street\,  Two Harbors\,  MN 55616
SUMMARY:White Pine Project Seedling Drive at Castle Danger Brewery
DESCRIPTION:Join us at the taproom over Arbor Day weekend for our White Pin
 e Project Seedling Drive. Proceeds from the sales of our White Pine Project
  IPA went to purchasing 1\, 000 white pine seedlings to plant along the Nor
 th Shore of Minnesota. You drank the beer\,  and now you can help[..]\nhttp
 s://minnesotabreweries.com/events/white-pine-project-seedling-drive-at-cast
 le-danger-brewery
URL:https://minnesotabreweries.com/events/white-pine-project-seedling-drive-at-castle-danger-brewery
END:VEVENT
END:VCALENDAR