BEGIN:VCALENDAR
VERSION:2.0
PRODID:-//eventon.com NONSGML v1.0//EN
CALSCALE:GREGORIAN
METHOD:PUBLISH
BEGIN:VEVENT
UID:69e7bbd30b62e
DTSTAMP:20260421T180259Z
DTSTART:20180325T180000Z
DTEND:20180325T200000Z
LOCATION:56 Brewing 3055 Columbia Ave NE\,  Minneapolis\,  MN 55418
SUMMARY:Marshall Terrace Tree Clean-Up with 56 Brewing
DESCRIPTION:Our Marshall Terrace neighborhood is doing some maintenance in 
 the community garden tree farm adjacent to the brewery and could use a help
 ing hand! We are looking for 10 volunteers to help with tree cutting and cl
 ean-up on Sunday\,  March 25 at 1pm. Each volunteer will receive a free pin
 t[..]\nhttps://minnesotabreweries.com/events/marshall-terrace-tree-clean-up
 -with-56-brewing
URL:https://minnesotabreweries.com/events/marshall-terrace-tree-clean-up-with-56-brewing
END:VEVENT
END:VCALENDAR