BEGIN:VCALENDAR
VERSION:2.0
PRODID:-//eventon.com NONSGML v1.0//EN
CALSCALE:GREGORIAN
METHOD:PUBLISH
BEGIN:VEVENT
UID:69ea95ceb0898
DTSTAMP:20260423T215734Z
DTSTART:20180811T170000Z
DTEND:20180811T220000Z
LOCATION:Sociable Cider Werks 1500 Fillmore St NE\,  Minneapolis\,  MN 55413
SUMMARY:Sociable Summer: Market Fest II
DESCRIPTION:Minneapolis Craft Market returns to Sociable Cider Werks with a
  series of outdoor summer markets on July 14\,  August 11\,  and September 
 8. We have a different lineup of makers each time\,  so visit us all summer
  long. Our markets are always dog and family-friendly\,  so bring the whole
  crew\, [..]\nhttps://minnesotabreweries.com/events/sociable-summer-market-
 fest-ii
URL:https://minnesotabreweries.com/events/sociable-summer-market-fest-ii
END:VEVENT
END:VCALENDAR