BEGIN:VCALENDAR
VERSION:2.0
PRODID:-//eventon.com NONSGML v1.0//EN
CALSCALE:GREGORIAN
METHOD:PUBLISH
BEGIN:VEVENT
UID:69ecd185f1162
DTSTAMP:20260425T143653Z
DTSTART:20180413T170000Z
DTEND:20180413T230000Z
LOCATION:331 Club 331 13th Ave NE\,  Minneapolis\,  MN 55413
SUMMARY:Surly & Fair State Collaboration Tap Takeover at 331
DESCRIPTION:Come hang with Fair State and Surly at 331 Club on Friday\,  Ap
 ril 13th. They recently created Clarity Of Purpose IPA and will have plenty
  of other awesome stuff on tap too!\nhttps://minnesotabreweries.com/events/
 surly-fair-state-collaboration-tap-takeover-at-331
URL:https://minnesotabreweries.com/events/surly-fair-state-collaboration-tap-takeover-at-331
END:VEVENT
END:VCALENDAR