BEGIN:VCALENDAR
VERSION:2.0
PRODID:-//eventon.com NONSGML v1.0//EN
CALSCALE:GREGORIAN
METHOD:PUBLISH
BEGIN:VEVENT
UID:69ea2352f01b7
DTSTAMP:20260423T134906Z
DTSTART:20180610T190000Z
DTEND:20180611T010000Z
LOCATION:Sociable Cider Werks 1500 Fillmore St NE\,  Minneapolis\,  MN 55413
SUMMARY:Sociable Summer Presents Funk Fest
DESCRIPTION:Presented by Sociable Cider Werks and 89.3 The Current\,  Funk 
 Fest brings you all that is funky! MUSIC Nooky Jones Astralblak fka ZULUZUL
 UU New Sound Underground More to come! CIDER Road Rash Shandy Apple will be
  making its summer debut. Funk Fest means we&#8217;re bringing out our funk
 iest ciders\,  which[..]\nhttps://minnesotabreweries.com/events/sociable-su
 mmer-presents-funk-fest
URL:https://minnesotabreweries.com/events/sociable-summer-presents-funk-fest
END:VEVENT
END:VCALENDAR