BEGIN:VCALENDAR
VERSION:2.0
PRODID:-//eventon.com NONSGML v1.0//EN
CALSCALE:GREGORIAN
METHOD:PUBLISH
BEGIN:VEVENT
UID:69ec28ca1c7c5
DTSTAMP:20260425T023658Z
DTSTART:20180622T220000Z
DTEND:20180623T000000Z
LOCATION:Beaver Island Brewing Company 216 6th Ave S\,  St. Cloud\,  MN 56301
SUMMARY:Tending for a Cause - St. Cloud Pride
DESCRIPTION:Join St. Cloud Pride for tending for a cause. Come get a beer s
 erved by drag performers and the St. Cloud Pride Board. A portion of the pr
 oceeds from beer sales and ALL tips from 5-7pm will go to St. Cloud Pride. 
 Toppers Pizza will also be selling pizza by[..]\nhttps://minnesotabreweries
 .com/events/tending-for-a-cause-st-cloud-pride
URL:https://minnesotabreweries.com/events/tending-for-a-cause-st-cloud-pride
END:VEVENT
END:VCALENDAR