BEGIN:VCALENDAR
VERSION:2.0
PRODID:-//eventon.com NONSGML v1.0//EN
CALSCALE:GREGORIAN
METHOD:PUBLISH
BEGIN:VEVENT
UID:69eb207dae440
DTSTAMP:20260424T074917Z
DTSTART:20180626T003000Z
DTEND:20180626T030000Z
LOCATION:Waldmann Brewery 445 Smith Avenue North\,  St. Paul\,  Minnesota 55102
SUMMARY:Euchre Night at Waldmann Brewery
DESCRIPTION:On Monday night\,  June 25\,  the historic Waldmann Brewery &am
 p; Wurstery will be open exclusively for a tournament (“bustle”) of euc
 hre. An entry fee of $3.00 per player gives you a night of euchre\,  comrad
 ery\,  free pepper bacon popcorn\,  Waldmann’s great lagers (for purchase
 —coffee\,  soda and seltzer also available)\,  and[..]\nhttps://minnesota
 breweries.com/events/euchre-night-at-waldmann-brewery
URL:https://minnesotabreweries.com/events/euchre-night-at-waldmann-brewery
END:VEVENT
END:VCALENDAR