BEGIN:VCALENDAR
VERSION:2.0
PRODID:-//eventon.com NONSGML v1.0//EN
CALSCALE:GREGORIAN
METHOD:PUBLISH
BEGIN:VEVENT
UID:69ed302870848
DTSTAMP:20260425T212040Z
DTSTART:20180904T220000Z
DTEND:20180905T010000Z
LOCATION:Urban Growler Brewing Company 2325 Endicott St\,  Saint Paul\,  MN 55114
SUMMARY:PRIDE in Brewing "PhilathroBrew" at Urban Growler
DESCRIPTION:Join us in celebrating diversity within the brewing community b
 y attending one (or more!) of our partnering fundraisers being held to supp
 ort the new PRIDE In Brewing Scholarship. Each of the events listed below w
 ill take place from 5-8 pm and $1 of every pint sold will go towards the[..
 ]\nhttps://minnesotabreweries.com/events/pride-in-brewing-philathrobrew-at-
 urban-growler
URL:https://minnesotabreweries.com/events/pride-in-brewing-philathrobrew-at-urban-growler
END:VEVENT
END:VCALENDAR