BEGIN:VCALENDAR
VERSION:2.0
PRODID:-//eventon.com NONSGML v1.0//EN
CALSCALE:GREGORIAN
METHOD:PUBLISH
BEGIN:VEVENT
UID:69eab56dc1685
DTSTAMP:20260424T001229Z
DTSTART:20181024T220000Z
DTEND:20181025T010000Z
LOCATION:612Brew 945 Broadway St NE\,  Minneapolis\,  MN 55413
SUMMARY:Halloween Carnival- a Minnesota Alliance With Youth fundraiser
DESCRIPTION:Come one\,  come all! It&#8217;s a Halloween Carnival benefitin
 g Minnesota Alliance With Youth! Enjoy spooky games\,  contests and more- b
 est of all\,  $1 of every pint will be donated to the Alliance! Check back 
 for more very-scary details&#8230; Family friendly! Learn more about the wo
 rk of Minnesota Alliance With Youth[..]\nhttps://minnesotabreweries.com/eve
 nts/halloween-carnival-a-minnesota-alliance-with-youth-fundraiser
URL:https://minnesotabreweries.com/events/halloween-carnival-a-minnesota-alliance-with-youth-fundraiser
END:VEVENT
END:VCALENDAR