BEGIN:VCALENDAR
VERSION:2.0
PRODID:-//eventon.com NONSGML v1.0//EN
CALSCALE:GREGORIAN
METHOD:PUBLISH
BEGIN:VEVENT
UID:69ea73d3d9299
DTSTAMP:20260423T193235Z
DTSTART:20181003T210000Z
DTEND:20181004T040000Z
LOCATION:Ansari&#039;s Mediterranean Grill &amp; Lounge 1960 Rahncliff Court\,  Eagan\,  MN 55122
SUMMARY:Mikkeller Minnesota Kickoff Party
DESCRIPTION:Join us as we launch Mikkeller Brewing in Minnesota. Tapping th
 e following: ~Resting Brew Face ~Breakfast Klob ~Awful Kato ~Yeeehhh!!! ~Pa
 ssion Pool ~Windy Hill Tallboy Cans: ~Beer Greek Breakfast ~Freddy Murkury 
 Happy Hour from 3-6pm Bingo starts at 7pm drink beer and win up to $1000!! 
 Hope to see you[..]\nhttps://minnesotabreweries.com/events/mikkeller-minnes
 ota-kickoff-party
URL:https://minnesotabreweries.com/events/mikkeller-minnesota-kickoff-party
END:VEVENT
END:VCALENDAR