BEGIN:VCALENDAR
VERSION:2.0
PRODID:-//eventon.com NONSGML v1.0//EN
CALSCALE:GREGORIAN
METHOD:PUBLISH
BEGIN:VEVENT
UID:69eca2c2d61f6
DTSTAMP:20260425T111722Z
DTSTART:20181029T220000Z
DTEND:20181030T010000Z
LOCATION:New Bohemia - NE Minneapolis 233 E Hennepin Ave\,  Minneapolis\,  Minnesota 55414
SUMMARY:New Bohemia's Cribbage Tournament
DESCRIPTION:New Bohemia will be hosting our 2nd 16 person cribbage tourname
 nt Oct. 29th at 5pm Participants will receive -1 free welcome beer -Free In
 deed Swag Bags -$3 Indeed Pours all night *1st place winner wins\,  2 Minne
 sota Wild Tickets\,  Empty Indeed Growler w/ $20 Indeed Gift Card *2nd Plac
 e Winner\, [..]\nhttps://minnesotabreweries.com/events/new-bohemias-cribbag
 e-tournament
URL:https://minnesotabreweries.com/events/new-bohemias-cribbage-tournament
END:VEVENT
END:VCALENDAR