BEGIN:VCALENDAR
VERSION:2.0
PRODID:-//eventon.com NONSGML v1.0//EN
CALSCALE:GREGORIAN
METHOD:PUBLISH
BEGIN:VEVENT
UID:69eb4a475953f
DTSTAMP:20260424T104735Z
DTSTART:20181202T180000Z
DTEND:20181202T230000Z
LOCATION:BlackStack Brewing 755 Prior Ave North St. Paul\,  MN 55104
SUMMARY:MN Local Holiday Market
DESCRIPTION:The MN Local Holiday Market is a pop-up holiday shopping event 
 that showcases local brands and makers and will be hosted at BlackStack Bre
 wing in St. Paul. This is a FREE Open House event for all to attend. Join u
 s Sunday\,  December 2nd from 12p-5p to find the perfect holiday[..]\nhttps
 ://minnesotabreweries.com/events/mn-local-holiday-market
URL:https://minnesotabreweries.com/events/mn-local-holiday-market
END:VEVENT
END:VCALENDAR