BEGIN:VCALENDAR
VERSION:2.0
PRODID:-//eventon.com NONSGML v1.0//EN
CALSCALE:GREGORIAN
METHOD:PUBLISH
BEGIN:VEVENT
UID:69ed6340efafe
DTSTAMP:20260426T005840Z
DTSTART:20181208T000000Z
DTEND:20181208T050000Z
LOCATION:Able Seedhouse + Brewery 1121 Quincy St NE\,  Minneapolis\,  MN 55413
SUMMARY:Grim Arcana - Beer Release and Dark Arts Holiday Market
DESCRIPTION:Join us for a dark spin on a holiday market\,  with the release
  of our new beer\,  Grim Arcana &#8211; a double brown ale made with smoked
  Able malt in collaboration with Animales Barbeque Co. \,  in support of To
 ys for Tots. Beer Release\,  Artist Gathering\,  DJ Sets\,  Tarot Readings\
 , [..]\nhttps://minnesotabreweries.com/events/grim-arcana-beer-release-and-
 dark-arts-holiday-market
URL:https://minnesotabreweries.com/events/grim-arcana-beer-release-and-dark-arts-holiday-market
END:VEVENT
END:VCALENDAR