BEGIN:VCALENDAR
VERSION:2.0
PRODID:-//eventon.com NONSGML v1.0//EN
CALSCALE:GREGORIAN
METHOD:PUBLISH
BEGIN:VEVENT
UID:69ecfcbd664d2
DTSTAMP:20260425T174117Z
DTSTART:20190113T210000Z
DTEND:20190114T000000Z
LOCATION:Blue Wolf Brewing Company 8515 Edinburgh Centre Dr.\,  Brooklyn Park\,  MN 55443
SUMMARY:CAPI USA Fundraiser
DESCRIPTION:On January 13th\,  from 3-6pm\,  Blue Wolf Brewing Company will
  be donating $1 from every pint sold to CAPI\,  USA&#8217;s food shelf. CAP
 I\,  USA is a non-profit organization in Brooklyn Center that supports immi
 grants and refugees in the Twin Cities area.\nhttps://minnesotabreweries.co
 m/events/capi-usa-fundraiser
URL:https://minnesotabreweries.com/events/capi-usa-fundraiser
END:VEVENT
END:VCALENDAR