BEGIN:VCALENDAR
VERSION:2.0
PRODID:-//eventon.com NONSGML v1.0//EN
CALSCALE:GREGORIAN
METHOD:PUBLISH
BEGIN:VEVENT
UID:69e8a68f83748
DTSTAMP:20260422T104431Z
DTSTART:20190120T220000Z
DTEND:20190121T020000Z
LOCATION:Invictus Brewing Company 2025 105th Ave NE\,  Blaine\,  Minnesota 55449
SUMMARY:Charity Cribbage Tournament
DESCRIPTION:Come join us for a cribbage tournament to support kidney diseas
 e research! Kristen Genet is running the 2019 Boston Marathon on a charity 
 team for Beth Israel Deaconess Medical Center\,  and fundraising to make a 
 difference for those affected by kidney disease. Your registration fee guar
 antees you at least two[..]\nhttps://minnesotabreweries.com/events/charity-
 cribbage-tournament
URL:https://minnesotabreweries.com/events/charity-cribbage-tournament
END:VEVENT
END:VCALENDAR