BEGIN:VCALENDAR
VERSION:2.0
PRODID:-//eventon.com NONSGML v1.0//EN
CALSCALE:GREGORIAN
METHOD:PUBLISH
BEGIN:VEVENT
UID:69ed0e424dfe9
DTSTAMP:20260425T185602Z
DTSTART:20190308T210000Z
DTEND:20190309T040000Z
LOCATION:Dangerous Man Brewing Company 1300 NE 2nd St\,  Minneapolis\,  MN 55413
SUMMARY:Dangerous Man Radiance Farmhouse Ale Release Party
DESCRIPTION:Calling all the dangerous ladies! Yes\,  you &#8211; the ladies
  who drink our beer\,  who support our mission\,  and who radiate fiercenes
 s. Join us on International Women&#8217;s Day (March 08th) as we proudly re
 lease Radiance Farmhouse Ale &#8211; a beer designed\,  brewed\,  and packa
 ged by ladies &#8211; our French style[..]\nhttps://minnesotabreweries.com/
 events/dangerous-man-radiance-farmhouse-ale-release-party
URL:https://minnesotabreweries.com/events/dangerous-man-radiance-farmhouse-ale-release-party
END:VEVENT
END:VCALENDAR