BEGIN:VCALENDAR
VERSION:2.0
PRODID:-//eventon.com NONSGML v1.0//EN
CALSCALE:GREGORIAN
METHOD:PUBLISH
BEGIN:VEVENT
UID:69ebd66159fdc
DTSTAMP:20260424T204521Z
DTSTART:20190505T000000Z
DTEND:20190505T040000Z
LOCATION:Dangerous Man Brewing Company 1300 NE 2nd St\,  Minneapolis\,  MN 55413
SUMMARY:May The 4th Be With You
DESCRIPTION:In a galaxy far far away Dangerous Man Brewing &amp; Jake Rudh 
 of Transmission present: MAY THE 4th BE WITH YOU General Admission Ticket: 
 $20 OR GA Ticket + 2 limited-edition full-color DM ‘May the 4th’ glasse
 s: $30 https://www.eventbrite.com/e/may-the-4th-be-with-you-tickets-5958896
 8208 Step into DM’s Cantina for an evening of&#8230; Saber Legion lightsa
 ber[..]\nhttps://minnesotabreweries.com/events/may-the-4th-be-with-you
URL:https://minnesotabreweries.com/events/may-the-4th-be-with-you
END:VEVENT
END:VCALENDAR