BEGIN:VCALENDAR
VERSION:2.0
PRODID:-//eventon.com NONSGML v1.0//EN
CALSCALE:GREGORIAN
METHOD:PUBLISH
BEGIN:VEVENT
UID:69eca9d78b251
DTSTAMP:20260425T114735Z
DTSTART:20190529T220000Z
DTEND:20190530T000000Z
LOCATION:Beaver Island Brewing Company 216 6th Ave S\,  St. Cloud\,  MN 56301
SUMMARY:Tending for a Cause: St. Cloud Girls Lacrosse
DESCRIPTION:Join us from 5-7pm for a couple great beers and Toppers Pizza s
 lices! St. Cloud Girls Lacrosse will receive $1 from every pint purchased a
 nd all tips.\nhttps://minnesotabreweries.com/events/tending-for-a-cause-st-
 cloud-girls-lacrosse
URL:https://minnesotabreweries.com/events/tending-for-a-cause-st-cloud-girls-lacrosse
END:VEVENT
END:VCALENDAR