BEGIN:VCALENDAR
VERSION:2.0
PRODID:-//eventon.com NONSGML v1.0//EN
CALSCALE:GREGORIAN
METHOD:PUBLISH
BEGIN:VEVENT
UID:69e9fb3aef059
DTSTAMP:20260423T105802Z
DTSTART:20190522T200000Z
DTEND:20190523T040000Z
LOCATION:Indeed Brewing Company 711 15th Avenue NE\,  Minneapolis\,  MN 55413
SUMMARY:Indeed We Can: City of Skate
DESCRIPTION:The third annual Indeed We Can to benefit City of Skate is upon
  us! Come out and support our local skatepark initiatives and raise a glass
  for skateboarding. The Indeed We Can event has become an annual tradition\
 ,  with City of Skate benefiting from the proceeds of all sales.\nhttps://m
 innesotabreweries.com/events/indeed-we-can-city-of-skate
URL:https://minnesotabreweries.com/events/indeed-we-can-city-of-skate
END:VEVENT
END:VCALENDAR