BEGIN:VCALENDAR
VERSION:2.0
PRODID:-//eventon.com NONSGML v1.0//EN
CALSCALE:GREGORIAN
METHOD:PUBLISH
BEGIN:VEVENT
UID:69e925d6c485e
DTSTAMP:20260422T194734Z
DTSTART:20190615T160000Z
DTEND:20190616T040000Z
LOCATION:Unmapped Brewing Company 14625 Excelsior Boulevard\,  Minnetonka\,  MN 55345
SUMMARY:Two Years of Unmapped Brewing Co.
DESCRIPTION:Can you believe it&#8217;s already been two years? Two years of
  Unmapped Brewing Co.! It&#8217;s been an incredible journey thus far\,  an
 d it&#8217;s been made possible by the immeasurable support you&#8217;ve al
 l shown us. The best way for us to show our appreciation is to throw a huge
  party in[..]\nhttps://minnesotabreweries.com/events/two-years-of-unmapped-
 brewing-co
URL:https://minnesotabreweries.com/events/two-years-of-unmapped-brewing-co
END:VEVENT
END:VCALENDAR