BEGIN:VCALENDAR
VERSION:2.0
PRODID:-//eventon.com NONSGML v1.0//EN
CALSCALE:GREGORIAN
METHOD:PUBLISH
BEGIN:VEVENT
UID:69e9d7042dd83
DTSTAMP:20260423T082332Z
DTSTART:20190627T220000Z
DTEND:20190628T003000Z
LOCATION:Bauhaus Brew Labs 1315 Tyler St NE\,  Minneapolis\,  MN 55413
SUMMARY:NEMAA Night: Anjee Mai Clay Creations
DESCRIPTION:Northeast Minneapolis Arts Association (NEMAA) and Bauhaus are 
 teaming up for a series of art nights at the Haus. We welcome NEMAA member 
 and colored clay sculptor Anjee Mai Creations to demo her whimsical monster
  figures. Participants will learn how to make their own monsters and be abl
 e to take[..]\nhttps://minnesotabreweries.com/events/nemaa-night-anjee-mai-
 clay-creations
URL:https://minnesotabreweries.com/events/nemaa-night-anjee-mai-clay-creations
END:VEVENT
END:VCALENDAR