BEGIN:VCALENDAR
VERSION:2.0
PRODID:-//eventon.com NONSGML v1.0//EN
CALSCALE:GREGORIAN
METHOD:PUBLISH
BEGIN:VEVENT
UID:69eba20a2ca35
DTSTAMP:20260424T170202Z
DTSTART:20190803T040000Z
DTEND:20190809T020000Z
LOCATION:Sandcastle 4955 W Lake Nokomis Pkwy\,  Minneapolis\,  MN 55417
SUMMARY:Fulton Tap Shack Takeover
DESCRIPTION:Fulton will be taking over our Tap Shack all week! Featuring: S
 weet Child of Vine IPA Lonely Blonde Hopstar Session IPA Standard Lager\nht
 tps://minnesotabreweries.com/events/fulton-tap-shack-takeover
URL:https://minnesotabreweries.com/events/fulton-tap-shack-takeover
END:VEVENT
END:VCALENDAR