BEGIN:VCALENDAR
VERSION:2.0
PRODID:-//eventon.com NONSGML v1.0//EN
CALSCALE:GREGORIAN
METHOD:PUBLISH
BEGIN:VEVENT
UID:69ecf3edba19a
DTSTAMP:20260425T170341Z
DTSTART:20210328T000000Z
DTEND:20210328T030000Z
LOCATION:
SUMMARY:7th Annual Northern Lights Rare Beer Fest 2021
DESCRIPTION:Featuring rare\,  vintage and one-off specialty beers from a ca
 refully-curated list of craft breweries\,  the Northern Lights Rare Beer Fe
 st is a one-of-a-kind event that showcases the creativity and skill of a se
 lect group of top brewers in the country. This 7th Annual\,  special one-ni
 ght tasting will take place on[..]\nhttps://minnesotabreweries.com/events/7
 th-annual-northern-lights-rare-beer-fest-2021
URL:https://minnesotabreweries.com/events/7th-annual-northern-lights-rare-beer-fest-2021
END:VEVENT
END:VCALENDAR