BEGIN:VCALENDAR
VERSION:2.0
PRODID:-//eventon.com NONSGML v1.0//EN
CALSCALE:GREGORIAN
METHOD:PUBLISH
BEGIN:VEVENT
UID:69eb47006b4ce
DTSTAMP:20260424T103336Z
DTSTART:20200508T210000Z
DTEND:20200508T230000Z
LOCATION:
SUMMARY:Witch Hunt Dear Mama Virtual Release
DESCRIPTION:The second year of our partnership with BlackStack\,  Dear Mama
  returns. Our hazy tribute to all the moms and mother-figures in our lives\
 ,  this DDH NEIPA features Citra\,  Sabro\,  Tropicalia from Mighty Axe Hop
 s\,  plus Azacca and Triumph as voted on by you\,  our members! Dear Mama w
 ould not be[..]\nhttps://minnesotabreweries.com/events/witch-hunt-dear-mama
 -virtual-release
URL:https://minnesotabreweries.com/events/witch-hunt-dear-mama-virtual-release
END:VEVENT
END:VCALENDAR